BEGIN:VCALENDAR
VERSION:2.0
PRODID:-//Core Telecom Systems - ECPv6.15.15//NONSGML v1.0//EN
CALSCALE:GREGORIAN
METHOD:PUBLISH
X-ORIGINAL-URL:https://www.coretelecom.net
X-WR-CALDESC:Events for Core Telecom Systems
REFRESH-INTERVAL;VALUE=DURATION:PT1H
X-Robots-Tag:noindex
X-PUBLISHED-TTL:PT1H
BEGIN:VTIMEZONE
TZID:America/Chicago
BEGIN:DAYLIGHT
TZOFFSETFROM:-0600
TZOFFSETTO:-0500
TZNAME:CDT
DTSTART:20250309T080000
END:DAYLIGHT
BEGIN:STANDARD
TZOFFSETFROM:-0500
TZOFFSETTO:-0600
TZNAME:CST
DTSTART:20251102T070000
END:STANDARD
BEGIN:DAYLIGHT
TZOFFSETFROM:-0600
TZOFFSETTO:-0500
TZNAME:CDT
DTSTART:20260308T080000
END:DAYLIGHT
BEGIN:STANDARD
TZOFFSETFROM:-0500
TZOFFSETTO:-0600
TZNAME:CST
DTSTART:20261101T070000
END:STANDARD
BEGIN:DAYLIGHT
TZOFFSETFROM:-0600
TZOFFSETTO:-0500
TZNAME:CDT
DTSTART:20270314T080000
END:DAYLIGHT
BEGIN:STANDARD
TZOFFSETFROM:-0500
TZOFFSETTO:-0600
TZNAME:CST
DTSTART:20271107T070000
END:STANDARD
END:VTIMEZONE
BEGIN:VEVENT
DTSTART;VALUE=DATE:20260302
DTEND;VALUE=DATE:20260305
DTSTAMP:20260421T040106
CREATED:20251218T163309Z
LAST-MODIFIED:20251218T163309Z
UID:76702-1772409600-1772668799@www.coretelecom.net
SUMMARY:Big Sky Tech Fest
DESCRIPTION:Havre\, MT
URL:https://www.coretelecom.net/trade-show/big-sky-tech-fest/
ATTACH;FMTTYPE=image/png:https://www.coretelecom.net/wp-content/uploads/2025/12/BigSKyTechFestWebBanner_CMYK-77b36db3.png
END:VEVENT
BEGIN:VEVENT
DTSTART;VALUE=DATE:20260309
DTEND;VALUE=DATE:20260312
DTSTAMP:20260421T040106
CREATED:20251218T163556Z
LAST-MODIFIED:20251218T163621Z
UID:76706-1773014400-1773273599@www.coretelecom.net
SUMMARY:URTA Annual Meeting
DESCRIPTION:Ivins\, UT
URL:https://www.coretelecom.net/trade-show/urta-annual-meeting/
ATTACH;FMTTYPE=image/png:https://www.coretelecom.net/wp-content/uploads/2025/12/URTA_logo.png
END:VEVENT
BEGIN:VEVENT
DTSTART;VALUE=DATE:20260309
DTEND;VALUE=DATE:20260312
DTSTAMP:20260421T040106
CREATED:20251218T163502Z
LAST-MODIFIED:20251218T163502Z
UID:76704-1773014400-1773273599@www.coretelecom.net
SUMMARY:MNTA Annual Convention
DESCRIPTION:Prior Lake\, MN
URL:https://www.coretelecom.net/trade-show/mnta-annual-convention/
ATTACH;FMTTYPE=image/png:https://www.coretelecom.net/wp-content/uploads/2025/12/logo2-2.png
END:VEVENT
BEGIN:VEVENT
DTSTART;VALUE=DATE:20260323
DTEND;VALUE=DATE:20260327
DTSTAMP:20260421T040106
CREATED:20251218T163815Z
LAST-MODIFIED:20251218T163815Z
UID:76708-1774224000-1774569599@www.coretelecom.net
SUMMARY:ICA Annual Meeting
DESCRIPTION:Des Moines\, IA
URL:https://www.coretelecom.net/trade-show/ica-annual-meeting/
ATTACH;FMTTYPE=image/webp:https://www.coretelecom.net/wp-content/uploads/2025/12/ioca-new-logo-700-3.webp
END:VEVENT
BEGIN:VEVENT
DTSTART;VALUE=DATE:20260331
DTEND;VALUE=DATE:20260403
DTSTAMP:20260421T040106
CREATED:20260128T162650Z
LAST-MODIFIED:20260128T162650Z
UID:76800-1774915200-1775174399@www.coretelecom.net
SUMMARY:TCEI Expo
DESCRIPTION:Belton\, TX
URL:https://www.coretelecom.net/trade-show/tcei-expo/
ATTACH;FMTTYPE=image/jpeg:https://www.coretelecom.net/wp-content/uploads/2026/01/images-35.jpg
END:VEVENT
END:VCALENDAR